Workbook
Name _ftnref1: 'Dashboard pour cas 2026'!$D$36
Name _ftnref2: 'Dashboard pour cas 2026'!$D$46
Name Plausibilität: 'Dashboard pour cas 2026'!$L$115:$L$116
Name Studientyp: Études!$B$72:$B$74

Sheet Dashboard pour cas 2026
C1: Centre du sein : | E1: =VALUE('Numéro hôpital'!C2) -> 0
A3: # | B3: Indicateur | C3: Définition | D3: Valeur min. | E3: Unité | F3: Numérateur | G3: Dénominateur | H3: Valeur | I3: MEC | J3: Message d'erreur / remarque | K3: Brève justification en cas d'écart | L3: Contrôle de plausibilité
A4: 1a | B4: Nouveaux cas de cancer du sein | C4: Nombre de nouveaux cas de cancer du sein (tumeurs / récidives) | D4: n/a | E4: Nombre de patientes concernées | F4: AA_Output:FilterSetting_ID=9027;Field=Anzahl | J4: =IF(ISBLANK(F4)=TRUE,"",IF(F4=0,"Veuillez entrer une valeur supérieure à 0","")) | K4: =IF(J4>"","Veuillez fournir une justification","")
D5: 125 | E5: Nombre de nouveaux cas de cancer du sein (nombre de tumeurs / récidives) | F5: AA_Output:FilterSetting_ID=9028;Field=Total | J5: =IF(F5>0,IF(F5<D5,"Valeur minimale non atteinte",""),"")
D6: n/a | E6: dont récidives | F6: AA_Output:FilterSetting_ID=9029;Field=Anzahl | G6: =IF(ISBLANK(F5)=TRUE,"",F5) -> AA_Output:FilterSetting_ID=9028;Field=Total | H6: =IF(ISBLANK(F6),"",F6/G6) -> #VALUE!
D7: n/a | E7: dont cas diagnostiqués en interne | F7: AA_Output:FilterSetting_ID=9030;Field=Total | G7: =IF(ISBLANK(F5)=TRUE,"",F5) -> AA_Output:FilterSetting_ID=9028;Field=Total | H7: =IF(ISBLANK(F7),"",F7/G7) -> #VALUE! | K7: =IF(J7>"","Veuillez fournir une justification","")
D8: n/a | E8: dont la biopsie a été réalisée à l'extérieur du Centre du sein | F8: =IF(F5=0,0,F5-F7) -> #VALUE! | G8: =IF(ISBLANK(F5)=TRUE,"",F5) -> AA_Output:FilterSetting_ID=9028;Field=Total | H8: =IF(F8=0,"",F8/G8) -> #VALUE! | K8: =IF(J8>"","Veuillez fournir une justification","")
A9: 1b | B9: Traitements chirurgicaux des carcinomes primaires | C9: Nombre de chirurgies primaires parmi les nouveaux cas de cancer du sein (y compris récidives) | D9: n/a | E9: Nombre de nouveaux cas de cancer du sein opérés | F9: AA_Output:FilterSetting_ID=915;Field=Anzahl;Code=1 | G9: =IF(F5*F9=0,"",F5) -> #VALUE! | H9: =IF(ISBLANK(F9),"",F9/G9) -> #VALUE!
A10: 2 | C10: Sénologie chirurgicale: Nombre de chirurgies primaires par MEC parmi les nouveaux cas de cancer du sein (y compris récidives) | D10: 30 | E10: Nombre d'opérations par MEC | F10: =IF('Nombre interventions MEC'!C4="","",'Nombre interventions MEC'!E4) | I10: =IF('Nombre interventions MEC'!C4="","",'Nombre interventions MEC'!C4) | J10: =IF(_xlfn.NUMBERVALUE(F10)>0,IF(_xlfn.NUMBERVALUE(F10)<$D$10,"Valeur minimale non atteinte",""),"") | K10: =IF(J10>"","Veuillez fournir une justification","")
F11: =IF('Nombre interventions MEC'!C5="","",'Nombre interventions MEC'!E5) | I11: =IF('Nombre interventions MEC'!C5="","",'Nombre interventions MEC'!C5) | J11: =IF(_xlfn.NUMBERVALUE(F11)>0,IF(_xlfn.NUMBERVALUE(F11)<$D$10,"Valeur minimale non atteinte",""),"") | K11: =IF(J11>"","Veuillez fournir une justification","")
F12: =IF('Nombre interventions MEC'!C6="","",'Nombre interventions MEC'!E6) | I12: =IF('Nombre interventions MEC'!C6="","",'Nombre interventions MEC'!C6) | J12: =IF(_xlfn.NUMBERVALUE(F12)>0,IF(_xlfn.NUMBERVALUE(F12)<$D$10,"Valeur minimale non atteinte",""),"") | K12: =IF(J12>"","Veuillez fournir une justification","")
F13: =IF('Nombre interventions MEC'!C7="","",'Nombre interventions MEC'!E7) | I13: =IF('Nombre interventions MEC'!C7="","",'Nombre interventions MEC'!C7) | J13: =IF(_xlfn.NUMBERVALUE(F13)>0,IF(_xlfn.NUMBERVALUE(F13)<$D$10,"Valeur minimale non atteinte",""),"") | K13: =IF(J13>"","Veuillez fournir une justification","")
F14: =IF('Nombre interventions MEC'!C8="","",'Nombre interventions MEC'!E8) | I14: =IF('Nombre interventions MEC'!C8="","",'Nombre interventions MEC'!C8) | J14: =IF(_xlfn.NUMBERVALUE(F14)>0,IF(_xlfn.NUMBERVALUE(F14)<$D$10,"Valeur minimale non atteinte",""),"") | K14: =IF(J14>"","Veuillez fournir une justification","")
F15: =IF('Nombre interventions MEC'!C9="","",'Nombre interventions MEC'!E9) | I15: =IF('Nombre interventions MEC'!C9="","",'Nombre interventions MEC'!C9) | J15: =IF(_xlfn.NUMBERVALUE(F15)>0,IF(_xlfn.NUMBERVALUE(F15)<$D$10,"Valeur minimale non atteinte",""),"") | K15: =IF(J15>"","Veuillez fournir une justification","")
F16: =IF('Nombre interventions MEC'!C10="","",'Nombre interventions MEC'!E10) | I16: =IF('Nombre interventions MEC'!C10="","",'Nombre interventions MEC'!C10) | J16: =IF(_xlfn.NUMBERVALUE(F16)>0,IF(_xlfn.NUMBERVALUE(F16)<$D$10,"Valeur minimale non atteinte",""),"") | K16: =IF(J16>"","Veuillez fournir une justification","")
F17: =IF('Nombre interventions MEC'!C11="","",'Nombre interventions MEC'!E11) | I17: =IF('Nombre interventions MEC'!C11="","",'Nombre interventions MEC'!C11) | J17: =IF(_xlfn.NUMBERVALUE(F17)>0,IF(_xlfn.NUMBERVALUE(F17)<$D$10,"Valeur minimale non atteinte",""),"") | K17: =IF(J17>"","Veuillez fournir une justification","")
F18: =IF('Nombre interventions MEC'!C12="","",'Nombre interventions MEC'!E12) | I18: =IF('Nombre interventions MEC'!C12="","",'Nombre interventions MEC'!C12) | J18: =IF(_xlfn.NUMBERVALUE(F18)>0,IF(_xlfn.NUMBERVALUE(F18)<$D$10,"Valeur minimale non atteinte",""),"") | K18: =IF(J18>"","Veuillez fournir une justification","")
D19: n/a | E19: Nombre total d'opérations | F19: =IFERROR(VLOOKUP("Total",'Nombre interventions MEC'!D:F,2,0),"") | K19: =IF(J19>"","Veuillez fournir une justification (l'écart peut s'expliquer par une méthode de comptage différente (1b = première consultation, 2 = date de l'opération))","")
A20: 3 | B20: Interventions plastiques et reconstructrices du sein | C20: Chirurgie plastique/onco-plastique : nombre d'interventions plastiques et reconstructrices du sein par MEC | D20: 30 | E20: Nombre total d'interventions du Centre du sein | J20: =IF(F20>0,IF(F20<D20,"Valeur minimale non atteinte",""),"") | K20: =IF(J20>"","Veuillez fournir une justification","")
D21: 30 | E21: Nombre d'opérations par "MEC principal" (tous lieux confondus) | J21: =IF(F21>0,IF(F21<D21,"Valeur minimale non atteinte",""),"") | K21: =IF(J21>"","Veuillez fournir une justification","")
J22: =IF(F22>0,IF(F22<D21,"Valeur minimale non atteinte",""),"") | K22: =IF(J22>"","Veuillez fournir une justification","")
J23: =IF(F23>0,IF(F23<D21,"Valeur minimale non atteinte",""),"") | K23: =IF(J23>"","Veuillez fournir une justification","")
J24: =IF(F24>0,IF(F24<D21,"Valeur minimale non atteinte",""),"") | K24: =IF(J24>"","Veuillez fournir une justification","")
D25: 30 | E25: Nombre d'opérations par "MEC additionnel (tous lieux confondus) | J25: =IF(F25>0,IF(F25<D25,"Valeur minimale non atteinte",""),"") | K25: =IF(J25>"","Veuillez fournir une justification","")
J26: =IF(F26>0,IF(F26<D25,"Valeur minimale non atteinte",""),"") | K26: =IF(J26>"","Veuillez fournir une justification","")
J27: =IF(F27>0,IF(F27<D25,"Valeur minimale non atteinte",""),"") | K27: =IF(J27>"","Veuillez fournir une justification","")
J28: =IF(F28>0,IF(F28<D25,"Valeur minimale non atteinte",""),"") | K28: =IF(J28>"","Veuillez fournir une justification","")
D29: 10 | E29: Nombre total de greffes de tissus autologues au Centre du sein | J29: =IF(F29>0,IF(F29<D29,"Valeur minimale non atteinte",""),"") | K29: =IF(J29>"","Veuillez fournir une justification","")
D30: 10 | E30: Nombre total de greffes de tissus autologues par "MEC principal" (tous lieux confondus) | J30: =IF(F30>0,IF(F30<D30,"Valeur minimale non atteinte",""),"") | K30: =IF(J30>"","Veuillez fournir une justification","")
J31: =IF(F31>0,IF(F31<D30,"Valeur minimale non atteinte",""),"") | K31: =IF(J31>"","Veuillez fournir une justification","")
J32: =IF(F32>0,IF(F32<D30,"Valeur minimale non atteinte",""),"") | K32: =IF(J32>"","Veuillez fournir une justification","")
J33: =IF(F33>0,IF(F33<D30,"Valeur minimale non atteinte",""),"") | K33: =IF(J33>"","Veuillez fournir une justification","")
A34: 4 | C34: Proportion de cas dans lesquels les tumeurs mammaires classées BI-RADS ≥3 ont été confirmées par biopsie au trocart avant l'exérèse. | D34: 0.98 | E34: Nombre de lésions BI-RADS ≥3 avec biopsie préalable | F34: AA_Output:FilterSetting_ID=13895;Field=Total | G34: AA_Output:FilterSetting_ID=13894;Field=Total | H34: =IF(G34=0,"",F34/G34) -> #VALUE! | J34: =IF(H34="","",IF(H34<=$D$34,"Valeur minimale non atteinte","")) -> #VALUE! | K34: =IF(J34>"","Veuillez fournir une justification","") -> #VALUE!
A35: 5 | B35: Analyses en pathologie | C35: Pathologie: Nombre de lectures de prélèvements mammaires | D35: n/a | E35: Nombre total de lectures au Centre du sein
D36: 250 | E36: Nombre de lectures de prélèvements par MEC | J36: =IF(F36>0,IF(F36<D36,"Valeur minimale non atteinte",""),"") | K36: =IF(J36>"","Veuillez fournir une justification","")
J37: =IF(F37>0,IF(F37<D36,"Valeur minimale non atteinte",""),"") | K37: =IF(J37>"","Veuillez fournir une justification","")
J38: =IF(F38>0,IF(F38<D36,"Valeur minimale non atteinte",""),"") | K38: =IF(J38>"","Veuillez fournir une justification","")
J39: =IF(F39>0,IF(F39<D36,"Valeur minimale non atteinte",""),"") | K39: =IF(J39>"","Veuillez fournir une justification","")
J40: =IF(F40>0,IF(F40<D36,"Valeur minimale non atteinte",""),"") | K40: =IF(J40>"","Veuillez fournir une justification","")
J41: =IF(F41>0,IF(F41<D36,"Valeur minimale non atteinte",""),"") | K41: =IF(J41>"","Veuillez fournir une justification","")
J42: =IF(F42>0,IF(F42<D36,"Valeur minimale non atteinte",""),"") | K42: =IF(J42>"","Veuillez fournir une justification","")
J43: =IF(F43>0,IF(F43<D36,"Valeur minimale non atteinte",""),"") | K43: =IF(J43>"","Veuillez fournir une justification","")
J44: =IF(F44>0,IF(F44<D36,"Valeur minimale non atteinte",""),"") | K44: =IF(J44>"","Veuillez fournir une justification","")
D45: n/a | E45: Nombre total de lectures de prélèvements pour l'ensemble des MEC | F45: =SUM(F36:F44) -> 0 | J45: =IF(F45>0,IF(F45=F35,"","Nombre de lectures par MEC "&IF(F35<F45,">","<")&" Nombre de lectures pour l'ensemble"),"") | K45: =IF(J45>"","Veuillez fournir une justification","")
A46: 6 | B46: Carcinomes nouvellement diagnostiqués par la pathologie | C46: Pathologie: Nombre de cancers nouvellement diagnostiqués | D46: n/a | E46: Nombre de carcinomes nouvellement diagnostiqués
D47: 125 | E47: Nombre de lectures de prélèvements pour les carcinomes nouvellement diagnostiqués par MEC | J47: =IF(F47>0,IF(F47<D47,"Valeur minimale non atteinte",""),"") | K47: =IF(J47>"","Veuillez fournir une justification","")
J48: =IF(F48>0,IF(F48<D47,"Valeur minimale non atteinte",""),"") | K48: =IF(J48>"","Veuillez fournir une justification","")
J49: =IF(F49>0,IF(F49<D47,"Valeur minimale non atteinte",""),"") | K49: =IF(J49>"","Veuillez fournir une justification","")
J50: =IF(F50>0,IF(F50<D47,"Valeur minimale non atteinte",""),"") | K50: =IF(J50>"","Veuillez fournir une justification","")
J51: =IF(F51>0,IF(F51<D47,"Valeur minimale non atteinte",""),"") | K51: =IF(J51>"","Veuillez fournir une justification","")
J52: =IF(F52>0,IF(F52<D47,"Valeur minimale non atteinte",""),"") | K52: =IF(J52>"","Veuillez fournir une justification","")
J53: =IF(F53>0,IF(F53<D47,"Valeur minimale non atteinte",""),"") | K53: =IF(J53>"","Veuillez fournir une justification","")
J54: =IF(F54>0,IF(F54<D47,"Valeur minimale non atteinte",""),"") | K54: =IF(J54>"","Veuillez fournir une justification","")
J55: =IF(F55>0,IF(F55<D47,"Valeur minimale non atteinte",""),"") | K55: =IF(J55>"","Veuillez fournir une justification","")
D56: n/a | E56: Nombre total de lectures de prélèvements pour l'ensemble des MEC | F56: =SUM(F47:F55) -> 0 | J56: =IF(F56>0,IF(F56=F46,"","Nombre de lectures par MEC "&IF(F46<F56,">","<")&" Nombre de lectures pour l'ensemble"),"") | K56: =IF(J56>"","Veuillez fournir une justification","")
A57: 7 | B57: Traitements systémiques réalisés par l'oncologie médicale | C57: Oncologie : nombre de patientes ayant bénéficié d'un traitement systémique oncologique au Centre du sein | D57: 30 | E57: Nombre total de patientes ayant bénéficié d'un traitement systémique oncologique au Centre du sein | J57: =IF(F57>0,IF(F57<D57,"Valeur minimale non atteinte",""),"") | K57: =IF(J57>"","Veuillez fournir une justification","")
D58: 30 | E58: Nombre de patientes ayant bénéficié d'un traitement systémique oncologique au Centre du sein par MEC 1 | J58: =IF(F58>0,IF(F58<D58,"Valeur minimale non atteinte",""),"") | K58: =IF(J58>"","Veuillez fournir une justification","")
E59: Nombre de patientes ayant bénéficié d'un traitement systémique oncologique au Centre du sein par MEC 2 | J59: =IF(F59>0,IF(F59<D58,"Valeur minimale non atteinte",""),"") | K59: =IF(J59>"","Veuillez fournir une justification","")
E60: Nombre de patientes ayant bénéficié d'un traitement systémique oncologique au Centre du sein par MEC 3 | J60: =IF(F60>0,IF(F60<D58,"Valeur minimale non atteinte",""),"") | K60: =IF(J60>"","Veuillez fournir une justification","")
E61: Nombre de patientes ayant bénéficié d'un traitement systémique oncologique au Centre du sein par MEC 4 | J61: =IF(F61>0,IF(F61<D58,"Valeur minimale non atteinte",""),"") | K61: =IF(J61>"","Veuillez fournir une justification","")
E62: Nombre de patientes ayant bénéficié d'un traitement systémique oncologique au Centre du sein par MEC 5 | J62: =IF(F62>0,IF(F62<D58,"Valeur minimale non atteinte",""),"") | K62: =IF(J62>"","Veuillez fournir une justification","")
E63: Nombre de patientes ayant bénéficié d'un traitement systémique oncologique au Centre du sein par MEC 6 | J63: =IF(F63>0,IF(F63<D58,"Valeur minimale non atteinte",""),"") | K63: =IF(J63>"","Veuillez fournir une justification","")
E64: Nombre de patientes ayant bénéficié d'un traitement systémique oncologique au Centre du sein par MEC 7 | J64: =IF(F64>0,IF(F64<D58,"Valeur minimale non atteinte",""),"") | K64: =IF(J64>"","Veuillez fournir une justification","")
E65: Nombre de patientes ayant bénéficié d'un traitement systémique oncologique au Centre du sein par MEC 8 | J65: =IF(F65>0,IF(F65<D58,"Valeur minimale non atteinte",""),"") | K65: =IF(J65>"","Veuillez fournir une justification","")
D66: n/a | E66: Nombre total de patientes ayant bénéficié d'un traitement systémique oncologique pour l'ensemble des MEC | F66: =SUM(F58:F65) -> 0 | J66: =IF(F66>0,IF(F66=F57,"","Nombre de lectures par MEC "&IF(F57<F66,">","<")&" Nombre de lectures pour l'ensemble"),"") | K66: =IF(J66>"","Veuillez fournir une justification","")
A67: 8 | C67: Nombre de patientes ayant bénéficié d'un traitement systémique néoadjuvant au Centre du sein | L67: Le filtre inclut RT01 = « oui »; ce champ couvre une hormonothérapie comme premier traitement néoadjuvant ou palliatif.
A68: 9 | B68: Examens Mx en radiologie | C68: Radiologie: Nombre de mammographies et de repérages au Centre du sein | D68: 1000 | E68: Nombre total de mammographies | J68: =IF(F68>0,IF(F68<D68,"Valeur minimale non atteinte",""),"") | K68: =IF(J68>"","Veuillez fournir une justification","")
D69: 1000 | E69: Nombre de mammographies lues par MEC | J69: =IF(F69>0,IF(F69<D69,"Valeur minimale non atteinte",""),"") | K69: =IF(J69>"","Veuillez fournir une justification","")
J70: =IF(F70>0,IF(F70<D69,"Valeur minimale non atteinte",""),"") | K70: =IF(J70>"","Veuillez fournir une justification","")
J71: =IF(F71>0,IF(F71<D69,"Valeur minimale non atteinte",""),"") | K71: =IF(J71>"","Veuillez fournir une justification","")
J72: =IF(F72>0,IF(F72<D69,"Valeur minimale non atteinte",""),"") | K72: =IF(J72>"","Veuillez fournir une justification","")
J73: =IF(F73>0,IF(F73<D69,"Valeur minimale non atteinte",""),"") | K73: =IF(J73>"","Veuillez fournir une justification","")
J74: =IF(F74>0,IF(F74<D69,"Valeur minimale non atteinte",""),"") | K74: =IF(J74>"","Veuillez fournir une justification","")
D75: n/a | E75: Nombre de mammographies lues pour l'ensemble des MEC | F75: =SUM(F69:F74) -> 0 | J75: =IF(F75>0,IF(F75=F68,"","Nombre Mx MEC "&IF(F68<F75,">","<")&" Nombre MX pour l'ensemble"),"") | K75: =IF(J75>"","Veuillez fournir une justification","")
A76: 10 | C76: Nombre de procédures de repérage pré- ou peropératoires pour des lésions mammaires non palpables | D76: n/a | E76: Nombre de procédures de repérage pré- ou peropératoires
A77: 11 | C77: Nombre de contrôles radiographiques ou ultrasonographiques de pièces opératoires | D77: n/a | E77: Nombre de contrôles radiographiques ou ultrasonographiques de pièces opératoires
A78: 12 | C78: Radio-oncologie: Nombre de radiothérapies adjuvantes (sein, paroi thoracique) | D78: 100 | E78: Nombre total de radiothérapies | J78: =IF(F78>0,IF(F78<D78,"Valeur minimale non atteinte",""),"") | K78: =IF(J78>"","Veuillez fournir une justification","")
D79: 30 | E79: dont radiothérapies par MEC | J79: =IF(F79>0,IF(F79<D79,"Valeur minimale non atteinte",""),"") | K79: =IF(J79>"","Veuillez fournir une justification","")
J80: =IF(F80>0,IF(F80<D79,"Valeur minimale non atteinte",""),"") | K80: =IF(J80>"","Veuillez fournir une justification","")
J81: =IF(F81>0,IF(F81<D79,"Valeur minimale non atteinte",""),"") | K81: =IF(J81>"","Veuillez fournir une justification","")
J82: =IF(F82>0,IF(F82<D79,"Valeur minimale non atteinte",""),"") | K82: =IF(J82>"","Veuillez fournir une justification","")
J83: =IF(F83>0,IF(F83<D79,"Valeur minimale non atteinte",""),"") | K83: =IF(J83>"","Veuillez fournir une justification","")
D84: n/a | E84: Nombre total de radiothérapies par MEC | F84: =SUM(F79:F83) -> 0 | J84: =IF(F84>0,IF(F84=F78,"","Nombre de radiothérapies par MEC "&IF(F78<F84,">","<")&" nombre total de radiothérapies"),"") | K84: =IF(J84>"","Veuillez fournir une justification","")
A85: 13 | B85: Cas inclus dans des études | C85: Taux patientes incluses dans des études cliniques | D85: 0.05 | E85: Nombre de patientes incluses dans des études cliniques observationnelles et interventionnelles | F85: =Études!F11 -> 0 | G85: =F4 -> AA_Output:FilterSetting_ID=9027;Field=Anzahl | H85: =IF(G85=0,"",F85/G85) -> #VALUE! | J85: =IF(H85="","",IF(H85<$D$85,"Valeur minimale non atteinte","")) -> #VALUE! | K85: =IF(J85>"","Veuillez fournir une justification","") -> #VALUE!
E86: Nombre de patientes incluses dans des études cliniques interventionnelles | F86: =Études!H11 -> 0 | G86: =F85 -> 0 | H86: =IF(G86=0,"",F86/G86)
A87: 14 | C87: Proportion de cas diagnostiqués en interne, qui ont été informés du diagnostic dans les 5 jours ouvrés suivant la biopsie, par rapport au nombre total de cas diagnostiqués en interne | D87: 0.95 | E87: Nombre de cas max. 5 jours ouvrés | F87: AA_Output:FilterSetting_ID=9033;Field=Total | G87: AA_Output:FilterSetting_ID=9034;Field=Total | H87: =IF(G87=0,"",F87/G87) -> #VALUE! | J87: =IF(H87="","",IF(H87<$D$87,"Valeur minimale non atteinte","")) -> #VALUE! | K87: =IF(J87>"","Veuillez fournir une justification","") -> #VALUE!
A88: 15 | C88: Proportion de premiers diagnostics internes de carcinome mammaire invasif dont le traitement a débuté dans les 28 jours calendaires selon le champ calculé BC_KPI15, parmi les cas disposant d’une date de biopsie ou de la date d’information du premier résultat anatomopathologique; DCIS exclus. | D88: 0.95 | E88: Nombre de cas avec début du traitement dans les 28 jours calendaires (≈20 jours ouvrables) | F88: AA_Output:FilterSetting_ID=13901;Field=Total | G88: AA_Output:FilterSetting_ID=13900;Field=Total | H88: =IF(G88=0,"",F88/G88) -> #VALUE! | J88: =IF(H88="","",IF(H88<$D$88,"Valeur minimale non atteinte","")) -> #VALUE! | K88: =IF(J88<>"","Veuillez fournir une justification","") -> #VALUE! | L88: Le calcul technique repose sur BC_KPI15 et une fenêtre de 28 jours calendaires.
A90: 16a | C90: Proportion de cas ayant bénéficié d'un avis multidisciplinaire lors du Tumorboard préopératoire par rapport au nombre total de nouveaux cas de cancer du sein. | D90: 1 | E90: Nombre de cas | F90: AA_Output:FilterSetting_ID=9059;Field=Total | G90: =F5 -> AA_Output:FilterSetting_ID=9028;Field=Total | H90: =IF(G90=0,"",F90/G90) -> #VALUE! | J90: =IF(H90="","",IF(H90<$D$90,"Valeur minimale non atteinte","")) -> #VALUE! | K90: =IF(J90<>"","Veuillez fournir une justification","") -> #VALUE!
A91: 16b | C91: Proportion de cas ayant bénéficié d'une nouvelle discussion au Tumorboard préopératoire après un traitement systémique oncologique néoadjuvant, par rapport à tous les cas traités selon un concept thérapeutique néoadjuvant. | D91: 1 | E91: Nombre de cas | F91: AA_Output:FilterSetting_ID=13903;Field=Total | G91: AA_Output:FilterSetting_ID=13902;Field=Total | H91: =IF(G91=0,"",F91/G91) -> #VALUE! | J91: =IF(H91="","",IF(H91<$D$87,"Valeur minimale non atteinte","")) -> #VALUE! | K91: =IF(J91>"","Veuillez fournir une justification","") -> #VALUE! | L91: Le dénominateur reprend la définition de l’indicateur 8, y compris RT01 = « oui ».
A92: 17 | C92: Proportion de cas ayant bénéficiés d'un avis multidisciplinaire lors du Tumorboard post-opératoire par rapport au nombre total de nouveaux cas | D92: 1 | E92: Nombre de cas | F92: AA_Output:FilterSetting_ID=9060;Field=Anzahl | G92: =F9 -> AA_Output:FilterSetting_ID=915;Field=Anzahl;Code=1 | H92: =IF(G92=0,"",F92/G92) -> #VALUE! | J92: =IF(H92="","",IF(H92<$D$92,"Valeur minimale non atteinte","")) -> #VALUE! | K92: =IF(J92>"","Veuillez fournir une justification","") -> #VALUE!
A93: 18a | C93: Taux de reprises chirurgicales oncologiques | D93: 0.2 | E93: Nombre de reprises chirurgicales oncologiques | F93: AA_Output:FilterSetting_ID=9061;Field=Anzahl | G93: =F9 -> AA_Output:FilterSetting_ID=915;Field=Anzahl;Code=1 | H93: =IF(G93=0,"",F93/G93) -> #VALUE! | J93: =IF(H93="","",IF(H93>=$D$93,"Valeur ≥20%","")) -> #VALUE! | K93: =IF(J93>"","Veuillez vérifier la valeur","") -> #VALUE!
A94: 18b | C94: Taux de reprises chirurgicales non oncologiques après une chirurgie oncologique primaire (DCIS et carcinomes invasifs), avec ou sans intervention plastique et reconstructrice. | D94: 0.1 | E94: Nombre de reprises chirurgicales non oncologiques | F94: AA_Output:FilterSetting_ID=9062;Field=Anzahl | G94: =F9 -> AA_Output:FilterSetting_ID=915;Field=Anzahl;Code=1 | H94: =IF(G94=0,"",F94/G94) -> #VALUE! | J94: =IF(H94="","",IF(H94>=$D$94,"Valeur ≥10%","")) -> #VALUE! | K94: =IF(J94>"","Veuillez vérifier la valeur","") -> #VALUE!
A95: 19 | C95: Proportion de résections R0 / R1 dans les cas de tumeurs invasives après chirurgie primaire (sans DCIS) | D95: n/a | E95: Nombre de cas invasifs (sans DCIS) | F95: AA_Output:FilterSetting_ID=9064;Field=Total | G95: =F9 -> AA_Output:FilterSetting_ID=915;Field=Anzahl;Code=1 | H95: =IF(G95=0,"",F95/G95) -> #VALUE! | J95: =IF(OR(F95="",F4=""),"",IF(F95>F4,"Nombre de cas invasifs > nombre de nouveaux cas","")) -> Nombre de cas invasifs > nombre de nouveaux cas | K95: =IF(J95>"","Veuillez fournir une justification","") -> Veuillez fournir une justification
D96: 0.95 | E96: Nombre de résections R0 | F96: AA_Output:FilterSetting_ID=9065;Field=Total | G96: =IF(ISBLANK(F95),"",F95) -> AA_Output:FilterSetting_ID=9064;Field=Total | H96: =IF(ISBLANK(F96),"",F96/G96) -> #VALUE! | J96: =IF(H96="","",IF(H96<$D$96,"Valeur minimale non atteinte","")) -> #VALUE! | K96: =IF(J96>"","Veuillez fournir une justification","") -> #VALUE!
D97: n/a | E97: Nombre de résections R1 | F97: AA_Output:FilterSetting_ID=9066;Field=Total | G97: =IF(ISBLANK(F95),"",F95) -> AA_Output:FilterSetting_ID=9064;Field=Total | H97: =IF(ISBLANK(F97),"",F97/G97) -> #VALUE!
D98: n/a | E98: Nombre d'autres | F98: =F95-F96-F97 -> #VALUE! | G98: =F95 -> AA_Output:FilterSetting_ID=9064;Field=Total | H98: =IF(G98=0,"",F98/G98) -> #VALUE! | K98: =IF(J98>"","Veuillez fournir une justification","")
A99: 20a | B99: Documentation des chirurgies conservatrices du sein | C99: Répartition des taux de chirurgies conservatrices selon la taille tumorale | D99: n/a | E99: Tis | F99: AA_Output:FilterSetting_ID=9070;Field=Anzahl | G99: AA_Output:FilterSetting_ID=9072;Field=Anzahl | H99: =IF(G99=0,"",F99/G99) -> #VALUE! | K99: =IF(J99>"","Veuillez fournir une justification","")
D100: 70-90% | E100: T1 (hors EIC; absence de composante DCIS utilisée comme proxy) | F100: AA_Output:FilterSetting_ID=13905;Field=Total | G100: AA_Output:FilterSetting_ID=13904;Field=Total | H100: =IF(G100=0,"",F100/G100) -> #VALUE! | J100: =IF(H100="","",IF(OR(H100>0.9,H100<0.7),"non conforme aux directives !","")) -> #VALUE! | K100: =IF(J100>"","Veuillez fournir une justification","") -> #VALUE! | L100: L’absence de composante DCIS est utilisée comme proxy de l’absence d’EIC.
D101: n/a | E101: T2 | F101: AA_Output:FilterSetting_ID=9074;Field=Anzahl | G101: AA_Output:FilterSetting_ID=9075;Field=Anzahl | H101: =IF(G101=0,"",F101/G101) -> #VALUE! | K101: =IF(J101>"","Veuillez fournir une justification","")
D102: n/a | E102: T3 | F102: AA_Output:FilterSetting_ID=9076;Field=Anzahl | G102: AA_Output:FilterSetting_ID=9077;Field=Anzahl | H102: =IF(G102=0,"",F102/G102) -> #VALUE! | K102: =IF(J102>"","Veuillez fournir une justification","")
...

Sheet Études
A1: Désignation | B1: Type d'étude (interventionnelle ou autre) | C1: Titre | D1: Date du vote sur l'éthique | E1: Statut | F1: Nombre de patients | G1: Protocole | H1: interventionnelle
B2: choisir s.v.p. | H2: =IF(B2="interventionnelle",+F2,0) -> 0
B3: choisir s.v.p. | H3: =IF(B3="interventionnelle",+F3,0) -> 0
B4: choisir s.v.p. | H4: =IF(B4="interventionnelle",+F4,0) -> 0
B5: choisir s.v.p. | H5: =IF(B5="interventionnelle",+F5,0) -> 0
B6: choisir s.v.p. | H6: =IF(B6="interventionnelle",+F6,0) -> 0
B7: choisir s.v.p. | H7: =IF(B7="interventionnelle",+F7,0) -> 0
B8: choisir s.v.p. | H8: =IF(B8="interventionnelle",+F8,0) -> 0
B9: choisir s.v.p. | H9: =IF(B9="interventionnelle",+F9,0) -> 0
B10: choisir s.v.p. | H10: =IF(B10="interventionnelle",+F10,0) -> 0
B11: choisir s.v.p. | E11: Total | F11: =SUM(F2:F10) -> 0 | H11: =SUM(H2:H10) -> 0
A13: Exemple
A14: Roche SafeHer M028048 | B14: interventionnelle | C14: Étude prospective de phase III non randomisée pour évaluer la sécurité d'Herceptin sous-cutané | D14: 40997 | E14: ouvert | F14: 20 | G14: Lien | H14: =IF(B14="interventionnelle",+F14,0) -> 20
A90: Type d'étude
A91: veuillez sélectionner
A92: interventionnelle
A93: autre
B100: veuillez sélectionner

Sheet Nombre interventions MEC
A1: [Adj] 3. Nombre d'opérations onco-chirurgicales par MEC: cas primaires et récidives par cas/année [14]
A3: AA_Output:FilterSetting_ID=9032

Sheet 1a cas bénins
A1: Indicateur n° 1a du tableau de bord
B22: AA_Output:FilterSetting_ID=4327

Sheet 2 cas sans MEC
A1: Indicateur n° 2 du tableau de bord
B12: AA_Output:FilterSetting_ID=4560

Sheet 4 Cas à contrôler
A1: Indicateur n° 4 – cas BI-RADS ≥3 à contrôler
A2: Les listes ci-dessous répertorient les cas du dénominateur qui ne sont pas comptés dans le numérateur, classés selon le motif principal. Les champs gris clair dans Adjumed peuvent être facultatifs pour la clôture du cas mais restent déterminants pour cet indicateur.
A6: A. Biopsie/confirmation non documentée | J6: B. Technique non conforme ou manquante | S6: C. Chronologie non conforme
A7: Cas BI-RADS 3–5 opérés pour lesquels ni « Biopsie réalisée » ni « Diagnostic confirmé par biopsie » n’est renseigné par « oui ». | J7: Cas avec biopsie/confirmation documentée, mais sans technique « biopsie au trocart » ou « assistée par le vide ». | S7: Cas avec biopsie et technique valides, mais dont la date de biopsie n’est pas antérieure à la date de la première chirurgie.
A14: AA_Output:FilterSetting_ID=14037 | J14: AA_Output:FilterSetting_ID=14038 | S14: AA_Output:FilterSetting_ID=14039

Sheet 14 Différence temps >5 jours
A1: Indicateur n° 14 du tableau de bord (ancien n° 10)
C19: AA_Output:FilterSetting_ID=9202 | K19: AA_Output:FilterSetting_ID=11020

Sheet 15 Cas hors délai
A1: Indicateur n° 15 – cas hors délai
B3: Les cas ci-dessous appartiennent au dénominateur de l’indicateur n° 15, mais ne sont pas comptés dans le numérateur car BC_KPI15 = 0. Le filtre concerne uniquement les premiers diagnostics internes de carcinome invasif (DCIS exclus) avec une date de biopsie ou une date d’information du premier résultat anatomopathologique. Le calcul technique utilise une fenêtre de 28 jours calendaires (≈20 jours ouvrables) jusqu’au début de la première chirurgie, de la chimiothérapie néoadjuvante, de l’hormonothérapie comme premier traitement ou de l’immunothérapie néoadjuvante.
C19: AA_Output:FilterSetting_ID=14040

Sheet 16a cas sans Tumorboard préth.
A1: Indicateur n° 16a du tableau de bord (ancien n° 12)
B15: AA_Output:FilterSetting_ID=9205

Sheet 16b Cas sans nouveau Tumorboard
A1: Indicateur n° 16b – cas sans nouvelle discussion au Tumorboard
B3: Les cas ci-dessous ont reçu un traitement considéré néoadjuvant par le filtre, mais ne sont pas comptés dans le numérateur car BC_KPI16b = 0. Pour être conforme, la date de la dernière conférence tumorale préopératoire doit être renseignée et être postérieure au début du traitement concerné. Le dénominateur comprend la chimiothérapie néoadjuvante, l’immunothérapie néoadjuvante et RT01 = « oui »; ce dernier champ couvre une hormonothérapie comme premier traitement néoadjuvant ou palliatif.
C18: AA_Output:FilterSetting_ID=14041

Sheet 17 cas sans Tumorboard post.
A1: Indicateur n° 17 du tableau de bord (ancien n° 13)
B15: AA_Output:FilterSetting_ID=9206

Sheet Numéro hôpital
A1: AA_Output:FilterSetting_ID=6512

Sheet 18 réopérations
A1: 18a | I1: 18b | Q1: 18c (ancien 14c)
A16: AA_Output:FilterSetting_ID=13806 | I16: AA_Output:FilterSetting_ID=13807 | Q16: AA_Output:FilterSetting_ID=13808

Sheet 19 résections
A1: 19 - cas invasifs hors DCIS | I1: 19 - R0 | Q1: 19 - R1
A11: AA_Output:FilterSetting_ID=13809 | I11: AA_Output:FilterSetting_ID=13810 | Q11: AA_Output:FilterSetting_ID=13811

Sheet 20a OP conservatrices du sein
A1: 20a Tis | I1: 20a T1 hors EIC | Q1: 20a T2 | Y1: 20a T3 | AG1: 20a T4 | AO1: 20a TX | AW1: 20a T0
A12: AA_Output:FilterSetting_ID=13797 | I12: AA_Output:FilterSetting_ID=14042 | Q12: AA_Output:FilterSetting_ID=13799 | Y12: AA_Output:FilterSetting_ID=13796 | AG12: AA_Output:FilterSetting_ID=13800 | AO12: AA_Output:FilterSetting_ID=13801 | AW12: AA_Output:FilterSetting_ID=13802

Sheet 20b mastectomies
A1: 20b - mastectomies
A12: AA_Output:FilterSetting_ID=13805

Sheet 21 DCIS avec ablation
A1: 21 – DCIS opérés par chirurgie conservatrice avec ablation ganglionnaire
A13: AA_Output:FilterSetting_ID=13907

Sheet Filtersettings
A1: Filtersettings – filtres AA_Output effectivement référencés dans le rapport
A2: Source : FilterSetting_202607071110.csv complété par les filtres négatifs 2027 (IDs 14037–14042). Une ID peut apparaître plusieurs fois lorsqu’elle est utilisée à plusieurs emplacements. L’ancien tableau de câblage a été supprimé.
A3: Domaine | B3: KPI | C3: Indicateur / contexte | D3: Rôle | E3: FilterSetting_ID | F3: Nom / description (CSV) | G3: Sortie / champ | H3: Période | I3: Champs de filtre | J3: Logique du filtre | K3: AA_Output / emplacement
A4: Dashboard | B4: 1a | C4: Nombre de nouveaux cas de cancer du sein (tumeurs / récidives) – nombre de patientes | D4: Nombre/valeur de comptage | E4: 9027 | F4: SBCDB QDB 1a Nombre de nouveaux cas de cancer du sein - Nombre de patientes Toutes les patientes enregistrées durant l'année concernée pour un traitement du cancer du sein | G4: KL · Centre du sein_KL.KL_2426 Export vers AdjumedAnalyze | H4: KL_363 – Date d'admission | I4: [KL_500] Cas EUSOMA / DKG / SBCDB ? (pour sélection/export) | J4: [KL_500] Cas EUSOMA / DKG / SBCDB ? (pour sélection/export) = True | K4: AA_Output:FilterSetting_ID=9027;Field=Anzahl Emplacement : Dashboard 2027!F4
A5: Dashboard | B5: 1a | C5: Nombre de nouveaux cas de cancer du sein (tumeurs / récidives) – nombre de nouveaux cas de cancer du sein | D5: Nombre/valeur de comptage | E5: 9028 | F5: SBCDB QDB 1a Nombre de nouveaux cas de cancer du sein - Nombre de nouveaux cas de cancer du sein Tous les cas enregistrés durant l'année concernée pour un traitement du cancer du sein | G5: OP · Centre du sein_OP.OP_1084 N00 : Patiente opérée | H5: KL_363 – Date d'admission | I5: [KL_500] Cas EUSOMA / DKG / SBCDB ? (pour sélection/export) | J5: [KL_500] Cas EUSOMA / DKG / SBCDB ? (pour sélection/export) = True | K5: AA_Output:FilterSetting_ID=9028;Field=Total Emplacement : Dashboard 2027!F5
A6: Dashboard | B6: 1a | C6: Nombre de nouveaux cas de cancer du sein (tumeurs / récidives) – dont récidives | D6: Nombre/valeur de comptage | E6: 9029 | F6: SBCDB QDB 1a Nombre de nouveaux cas de cancer du sein - récidives numérateur Tous les nouveaux cas de récidive du cancer du sein enregistrés durant l'année concernée pour un traitement | G6: OP · Centre du sein_OP.OP_144 Récidive ? | H6: KL_363 – Date d'admission | I6: [KL_500] Cas EUSOMA / DKG / SBCDB ? (pour sélection/export) [OP_144] Récidive ? | J6: [KL_500] Cas EUSOMA / DKG / SBCDB ? (pour sélection/export) = True ET [OP_144] Récidive ? oui [1] | K6: AA_Output:FilterSetting_ID=9029;Field=Anzahl Emplacement : Dashboard 2027!F6
A7: Dashboard | B7: 1a | C7: Nombre de nouveaux cas de cancer du sein (tumeurs / récidives) – dont cas diagnostiqués en interne | D7: Nombre/valeur de comptage | E7: 9030 | F7: SBCDB QDB 1a Nombre de nouveaux cas de cancer du sein - cas diagnostiqués en interne – numérateur Tous les cas diagnostiqués en interne enregistrés durant l'année concernée pour un traitement du cancer du sein | G7: OP · Centre du sein_KL.KL_2843 Diagnostic externe | H7: KL_363 – Date d'admission | I7: [KL_500] Cas EUSOMA / DKG / SBCDB ? (pour sélection/export) [KL_2843] Diagnostic externe | J7: [KL_500] Cas EUSOMA / DKG / SBCDB ? (pour sélection/export) contient True ET [KL_2843] Diagnostic externe = champ vide ou = False | K7: AA_Output:FilterSetting_ID=9030;Field=Total Emplacement : Dashboard 2027!F7
A8: Dashboard | B8: 1b | C8: Nombre de carcinomes primaires / récidives opérés – nombre de chirurgies primaires des nouveaux cas de cancer du sein | D8: Nombre/valeur de comptage | E8: 915 | F8: [Adj] BC Dash 2ème nombre dans le centre du sein de premiers cancers op.non op. récidives Indicateur 1a du tableau de bord : nombre de nouveaux cas de cancer du sein | G8: OP · Centre du sein_OP.OP_1084 N00 : Patiente opérée | H8: KL_363 – Date d'admission | I8: [KL_500] Cas EUSOMA / DKG / SBCDB ? (pour sélection/export) | J8: [KL_500] Cas EUSOMA / DKG / SBCDB ? (pour sélection/export) = True | K8: AA_Output:FilterSetting_ID=915;Field=Anzahl;Code=1 Emplacement : Dashboard 2027!F9
A9: Dashboard | B9: 4 | C9: Proportion de cas dans lesquels les tumeurs mammaires classées BI-RADS ≥3 ont été confirmées par biopsie au trocart avant l'exérèse – nombre de lésions BI-RADS ≥3 avec biopsie préalable | D9: Dénominateur | E9: 13894 | F9: Indicateur_4_Dénominateur_2026 Dénominateur KPI 4 : premier diagnostic, cas opéré, BI-RADS 3/4/5. | G9: OP · Centre du sein_OP.OP_6e_BZ | H9: KL_363 – Date d'admission | I9: [KL_500] Cas EUSOMA / DKG / SBCDB ? (pour sélection/export) [OP_1000] Premier diagnostic au cours de la vie de la patiente [OP_1084] N00 : Patiente opérée [OP_6e_BZ] 6e. Classification BI-RADS | J9: [KL_500] Cas EUSOMA / DKG / SBCDB ? (pour sélection/export) oui [True] ET [OP_1000] Premier diagnostic au cours de la vie de la patiente = 1 ET [OP_1084] N00 : Patiente opérée = 1 ou = 2 ET [OP_6e_BZ] 6e. Classification BI-RADS = 3 ou = 4 ou = 5 | K9: AA_Output:FilterSetting_ID=13894;Field=Total Emplacement : Dashboard 2027!G34
A10: Dashboard | B10: 4 | C10: Proportion de cas dans lesquels les tumeurs mammaires classées BI-RADS ≥3 ont été confirmées par biopsie au trocart avant l'exérèse – nombre de lésions BI-RADS ≥3 avec biopsie préalable | D10: Numérateur | E10: 13895 | F10: Indicateur_4_Numérateur_2026 Numérateur KPI 4 : dénominateur, biopsie/confirmation bioptique, technique au trocart/sous vide, biopsie avant chirurgie via BC_KPI04. | G10: OP · Centre du sein_OP.OP_BC_KPI04 | H10: KL_363 – Date d'admission | I10: [KL_500] Cas EUSOMA / DKG / SBCDB ? (pour sélection/export) [OP_1000] Premier diagnostic au cours de la vie de la patiente [OP_1084] N00 : Patiente opérée [OP_6e_BZ] 6e. Classification BI-RADS [OP_7420] Biopsie réalisée [OP_3610] Diagnostic confirmé par biopsie (oui/non) [OP_1054] D12 : Technique de biopsie [OP_BC_KPI04] BC_KPI04 : Date de biopsie antérieure à la 1re chirurgie (calculé) | J10: [KL_500] Cas EUSOMA / DKG / SBCDB ? (pour sélection/export) oui [True] ET [OP_1000] Premier diagnostic au cours de la vie de la patiente = 1 ET [OP_1084] N00 : Patiente opérée = 1 ou = 2 ET [OP_6e_BZ] 6e. Classification BI-RADS = 3 ou = 4 ou = 5 ET ([OP_7420] Biopsie réalisée = 1 OU [OP_3610] Diagnostic confirmé par biopsie (oui/non) = 1) ET [OP_1054] D12 : Technique de biopsie = 1 ou = 2 ET [OP_BC_KPI04] BC_KPI04 : Date de biopsie antérieure à la 1re chirurgie (calculé) = 1 | K10: AA_Output:FilterSetting_ID=13895;Field=Total Emplacement : Dashboard 2027!F34
A11: Dashboard | B11: 14 | C11: Proportion de cas diagnostiqués en interne informés du diagnostic dans les 5 jours ouvrables suivant la biopsie, par rapport au nombre total de cas diagnostiqués initialement en interne – nombre de cas max. 5 jours ouvrables | D11: Numérateur | E11: 9033 | F11: SBCDB QDB 10 Pathologie max. 5 jours après la biopsie interne numérateur Proportion de cas diagnostiqués en interne informés du diagnostic dans les 5 jours ouvrables suivant la biopsie | G11: OP · Centre du sein_OP.OP_1084 N00 : Patiente opérée | H11: KL_363 – Date d'admission | I11: [KL_500] Cas EUSOMA / DKG / SBCDB ? (pour sélection/export) [OP_2839] Différence de temps D10A–D10I (13b) (calculée) [OP_7420] Biopsie réalisée [KL_2843] Diagnostic externe | J11: [KL_500] Cas EUSOMA / DKG / SBCDB ? (pour sélection/export) = True ET ([OP_2839] Différence de temps D10A–D10I (13b) (calculée) < 6 OU [OP_7420] Biopsie réalisée non [0] ou refus de la patiente [2]) ET [OP_2839] Différence de temps D10A–D10I (13b) (calculée) = champ vide ET [KL_2843] Diagnostic externe = champ vide ou = False | K11: AA_Output:FilterSetting_ID=9033;Field=Anzahl Emplacement : Dashboard 2027!F87
A12: Dashboard | B12: 14 | C12: Proportion de cas diagnostiqués en interne informés du diagnostic dans les 5 jours ouvrables suivant la biopsie, par rapport au nombre total de cas diagnostiqués initialement en interne – nombre de cas max. 5 jours ouvrables | D12: Dénominateur | E12: 9034 | F12: SBCDB QDB 10 Pathologie max. 5 jours après biopsie interne Dénominateur Proportion de tous les cas diagnostiqués en interne avec biopsie réalisée | G12: OP · Centre du sein_OP.OP_1084 N00 : Patiente opérée | H12: KL_363 – Date d'admission | I12: [KL_500] Cas EUSOMA / DKG / SBCDB ? (pour sélection/export) [KL_2843] Diagnostic externe | J12: [KL_500] Cas EUSOMA / DKG / SBCDB ? (pour sélection/export) contient True ET [KL_2843] Diagnostic externe = champ vide ou = False | K12: AA_Output:FilterSetting_ID=9034;Field=Total Emplacement : Dashboard 2027!G87
A13: Dashboard | B13: 15 | C13: Proportion de premiers diagnostics internes de carcinome mammaire invasif dont le traitement a débuté dans les 28 jours calendaires selon BC_KPI15, parmi les cas avec une date de biopsie ou une date d’information du premier résultat anatomopathologique; DCIS exclus | D13: Dénominateur | E13: 13900 | F13: Indicateur_15_Dénominateur_2026 Dénominateur KPI 15 : premier diagnostic, diagnostic interne, invasif, date index disponible. | G13: OP · Centre du sein_OP.OP_1000 Premier diagnostic au cours de la vie de la patiente | H13: KL_363 – Date d'admission | I13: [KL_500] Cas EUSOMA / DKG / SBCDB ? (pour sélection/export) [OP_1000] Premier diagnostic au cours de la vie de la patiente [KL_2843] Diagnostic externe [OP_1048] D10 : Invasion (type) [OP_1180] I01 : Diagnostic principal [OP_1051] D10A : Date de la biopsie [OP_2605] D10i : Date à laquelle la patiente a été informée du premier résultat anatomopathologique diagnostique (= question cancer oui/non ?) | J13: [KL_500] Cas EUSOMA / DKG / SBCDB ? (pour sélection/export) oui [True] ET [OP_1000] Premier diagnostic au cours de la vie de la patiente = 1 ET [KL_2843] Diagnostic externe = champ vide ou = False ET ([OP_1048] D10 : Invasion (type) = 2 OU [OP_1180] I01 : Diagnostic principal = 4) ET ([OP_1051] D10A : Date de la biopsie > 01.01.1900 OU [OP_2605] D10i : Date à laquelle la patiente a été informée du premier résultat anatomopathologique diagnostique (= question cancer oui/non ?) > 01.01.1900) | K13: AA_Output:FilterSetting_ID=13900;Field=Total Emplacement : Dashboard 2027!G88
A14: Dashboard | B14: 15 | C14: Proportion de premiers diagnostics internes de carcinome mammaire invasif dont le traitement a débuté dans les 28 jours calendaires selon BC_KPI15, parmi les cas avec une date de biopsie ou une date d’information du premier résultat anatomopathologique; DCIS exclus | D14: Numérateur | E14: 13901 | F14: Indicateur_15_Numérateur_2026 Numérateur KPI 15 : dénominateur KPI 15 plus champ calculé BC_KPI15=1. | G14: OP · Centre du sein_OP.OP_BC_KPI15 | H14: KL_363 – Date d'admission | I14: [KL_500] Cas EUSOMA / DKG / SBCDB ? (pour sélection/export) [OP_1000] Premier diagnostic au cours de la vie de la patiente [KL_2843] Diagnostic externe [OP_1048] D10 : Invasion (type) [OP_1180] I01 : Diagnostic principal [OP_1051] D10A : Date de la biopsie [OP_2605] D10i : Date à laquelle la patiente a été informée du premier résultat anatomopathologique diagnostique (= question cancer oui/non ?) [OP_BC_KPI15] BC_KPI15 : Début du traitement dans les 28 jours calendaires (calculé) | J14: [KL_500] Cas EUSOMA / DKG / SBCDB ? (pour sélection/export) oui [True] ET [OP_1000] Premier diagnostic au cours de la vie de la patiente = 1 ET [KL_2843] Diagnostic externe = champ vide ou = False ET ([OP_1048] D10 : Invasion (type) = 2 OU [OP_1180] I01 : Diagnostic principal = 4) ET ([OP_1051] D10A : Date de la biopsie > 01.01.1900 OU [OP_2605] D10i : Date à laquelle la patiente a été informée du premier résultat anatomopathologique diagnostique (= question cancer oui/non ?) > 01.01.1900) ET [OP_BC_KPI15] BC_KPI15 : Début du traitement dans les 28 jours calendaires (calculé) = 1 | K14: AA_Output:FilterSetting_ID=13901;Field=Total Emplacement : Dashboard 2027!F88
A15: Dashboard | B15: 16a | C15: Proportion de cas discutés au Tumorboard préopératoire parmi tous les nouveaux cas de cancer du sein – nombre de cas | D15: Nombre/valeur de comptage | E15: 9059 | F15: SBCDB QDB 12 Proportion de cas avec Tumorboard préopératoire – numérateur Proportion de cas discutés au Tumorboard préopératoire parmi tous les nouveaux cas de cancer du sein | G15: OP · Centre du sein_OP.OP_1084 N00 : Patiente opérée | H15: KL_363 – Date d'admission | I15: [KL_500] Cas EUSOMA / DKG / SBCDB ? (pour sélection/export) [OP_1078] D23 : Date du premier Tumorboard préthérapeutique | J15: [KL_500] Cas EUSOMA / DKG / SBCDB ? (pour sélection/export) = True ET [OP_1078] D23 : Date du premier Tumorboard préthérapeutique > 01.01.1900 | K15: AA_Output:FilterSetting_ID=9059;Field=Total Emplacement : Dashboard 2027!F90
... A67: Onglet négatif/détail | B67: 21 | C67: 21 DCIS avec ablation ganglionnaire – cas du numérateur à contrôler | D67: Filtre négatif/d’anomalies | E67: 13907 | F67: Indicateur_21_Numérateur_2026 Le numérateur constitue ici la liste des cas à contrôler, car une valeur élevée est défavorable et l’objectif est <5 %. | G67: OP · Centre du sein_OP.OP_1159 G01 : Chirurgie axillaire (y c. TAD/TAS) | H67: KL_363 – Date d’admission | I67: [KL_500] Cas EUSOMA / DKG / SBCDB ? (pour sélection/export) [OP_1180] I01 : Diagnostic principal [OP_1048] D10 : Invasion (type) [OP_1093] E08 : Type de la première chirurgie oncologique du sein [OP_1147] P01 : Procédure du ganglion sentinelle [OP_1159] G01 : Chirurgie axillaire (y c. TAD/TAS) | J67: [KL_500] Cas EUSOMA / DKG / SBCDB ? (pour sélection/export) oui [True] ET ([OP_1180] I01 : Diagnostic principal = 2 OU [OP_1048] D10 : Invasion (type) = 1) ET [OP_1093] E08 : Type de la première chirurgie oncologique du sein = 10 ET ([OP_1147] P01 : Procédure du ganglion sentinelle = 2 ou = 3 OU [OP_1159] G01 : Chirurgie axillaire (y c. TAD/TAS) = 1) | K67: AA_Output:FilterSetting_ID=13907 Emplacement : 21 DCIS avec ablation!A13
A68: Paramètre | B68: Parameter | C68: Numéro d'hôpital – AA_Output:FilterSetting_ID=6512 | D68: Paramètre/numéro d'hôpital | E68: 6512 | F68: [cv] SBCDB - Numéro d'hôpital | G68: KL · Centre du sein_KL.KlinikNummer Numéro d'hôpital | H68: KL_363 – Date d'admission | K68: AA_Output:FilterSetting_ID=6512 Emplacement : Numéro hôpital!A1

Sheet Directives 2027
A1: Directives de saisie – nouveaux indicateurs et modifications 2027
A2: Un champ affiché en gris clair dans Adjumed peut être facultatif pour la clôture du cas tout en restant déterminant pour le Dashboard. Les réponses doivent refléter la situation réelle; les champs calculés BC_KPI04, BC_KPI15 et BC_KPI16b sont alimentés automatiquement et ne doivent pas être saisis manuellement.
A6: Indicateur | B6: Ce qui est compté | C6: Champs à ne pas oublier | D6: Interprétation / point d’attention | E6: Type
A7: 4 | B7: Premiers diagnostics opérés avec BI-RADS 3, 4 ou 5; cas conforme si biopsie/confirmation bioptique, technique au trocart ou assistée par le vide et biopsie antérieure à la première chirurgie. | C7: Premier diagnostic; patiente opérée; BI-RADS; biopsie réalisée ou diagnostic confirmé par biopsie; technique; date de biopsie; date de la première chirurgie. | D7: Objectif strictement supérieur à 98 %. Ne pas répondre « oui » systématiquement: documenter uniquement ce qui est réellement établi. | E7: Proportion
A8: 15 | B8: Premiers diagnostics internes de carcinome invasif, hors DCIS, avec date index disponible; conformité déterminée par BC_KPI15 = 1. | C8: Diagnostic externe; type invasif/in situ; date de biopsie ou date d’information du premier résultat; dates de début de la première chirurgie, chimiothérapie néoadjuvante, hormonothérapie de première intention ou immunothérapie néoadjuvante. | D8: Le calcul technique utilise 28 jours calendaires comme approximation des 20 jours ouvrables. | E8: Proportion
A9: 16b | B9: Cas considérés néoadjuvants selon l’indicateur 8; conformité si une nouvelle discussion préopératoire au Tumorboard a eu lieu après le début du traitement. | C9: Traitement néoadjuvant; date de début; date de la dernière conférence tumorale préopératoire. | D9: Une conférence tenue uniquement avant le début du traitement ne suffit pas. RT01 = « oui » est inclus selon le filtre actuel. | E9: Proportion
A10: 20a T1 | B10: Cas opérés T1/T1a/T1b/T1c sans composante DCIS, avec chirurgie conservatrice comme première chirurgie pour le numérateur. | C10: Patiente opérée; cT ou pT; présence/absence d’une composante DCIS; type de la première chirurgie. | D10: L’absence de composante DCIS est utilisée comme proxy de l’absence d’EIC. | E10: Proportion
A11: 21 | B11: DCIS/in situ opérés par chirurgie conservatrice; le numérateur comprend les cas avec procédure du ganglion sentinelle ou chirurgie axillaire. | C11: Diagnostic principal/type d’invasion; première chirurgie; procédure du ganglion sentinelle; chirurgie axillaire. | D11: Une valeur élevée est défavorable; objectif strictement inférieur à 5 %. | E11: Proportion
